BEGIN:VCALENDAR
VERSION:2.0
PRODID:-//wp-events-plugin.com//7.2.3.1//EN
BEGIN:VEVENT
UID:22@centralcoastcomedytheater.com
DTSTART;TZID=America/Los_Angeles:20251023T180000
DTEND;TZID=America/Los_Angeles:20251023T200000
DTSTAMP:20251020T222731Z
URL:https://centralcoastcomedytheater.com/Shows/student-showcase/
SUMMARY:Student Showcase
DESCRIPTION:Our Central Coast Comedy Theater improv students have been work
 ing hard since the beginning of September. It’s time to show the world w
 hat they’ve been learning. Bring your friends and family to a night of l
 aughter as you support our wonderful students! Tickets available at the do
 or or at https://rb.gy/5yccbc
ATTACH;FMTTYPE=image/jpeg:https://i0.wp.com/centralcoastcomedytheater.com/
 wp-content/uploads/2025/09/IMG_9353.jpeg?fit=1024%2C1024&ssl=1
CATEGORIES:Improv Show
LOCATION:The Bunker SLO\, 810 Orcutt Road\, San Luis Obispo\, CA\, 93401\, 
 United States
X-APPLE-STRUCTURED-LOCATION;VALUE=URI;X-ADDRESS=810 Orcutt Road\, San Luis 
 Obispo\, CA\, 93401\, United States;X-APPLE-RADIUS=100;X-TITLE=The Bunker 
 SLO:geo:0,0
END:VEVENT
BEGIN:VTIMEZONE
TZID:America/Los_Angeles
X-LIC-LOCATION:America/Los_Angeles
BEGIN:DAYLIGHT
DTSTART:20250309T030000
TZOFFSETFROM:-0800
TZOFFSETTO:-0700
TZNAME:PDT
END:DAYLIGHT
END:VTIMEZONE
END:VCALENDAR