BEGIN:VCALENDAR
VERSION:2.0
PRODID:-//wp-events-plugin.com//7.2.3.1//EN
BEGIN:VEVENT
UID:8@centralcoastcomedytheater.com
DTSTART;TZID=America/Los_Angeles:20250618T190000
DTEND;TZID=America/Los_Angeles:20250618T203000
DTSTAMP:20250611T161101Z
URL:https://centralcoastcomedytheater.com/Shows/slo-ranch-improv-show/
SUMMARY:SLO Ranch Improv Show
DESCRIPTION:We are delighted to bring our madcap improv show to a new venue
  : SLO Ranch! Grab food and drinks and enjoy some unscripted comedic mayhe
 m with CCCT players Zombie Skillet.
ATTACH;FMTTYPE=image/jpeg:https://i0.wp.com/centralcoastcomedytheater.com/
 wp-content/uploads/2025/06/IMG_9208.jpeg?fit=1125%2C1115&ssl=1
CATEGORIES:Improv Show
LOCATION:SLO Ranch\, 871 Froom Ranch Way\, San Luis Obispo\, CA\, 93401\, U
 nited States
X-APPLE-STRUCTURED-LOCATION;VALUE=URI;X-ADDRESS=871 Froom Ranch Way\, San L
 uis Obispo\, CA\, 93401\, United States;X-APPLE-RADIUS=100;X-TITLE=SLO Ran
 ch:geo:0,0
END:VEVENT
BEGIN:VTIMEZONE
TZID:America/Los_Angeles
X-LIC-LOCATION:America/Los_Angeles
BEGIN:DAYLIGHT
DTSTART:20250309T030000
TZOFFSETFROM:-0800
TZOFFSETTO:-0700
TZNAME:PDT
END:DAYLIGHT
END:VTIMEZONE
END:VCALENDAR