BEGIN:VCALENDAR
VERSION:2.0
PRODID:-//wp-events-plugin.com//7.2.3.1//EN
BEGIN:VEVENT
UID:24@centralcoastcomedytheater.com
DTSTART;TZID=America/Los_Angeles:20251120T180000
DTEND;TZID=America/Los_Angeles:20251120T200000
DTSTAMP:20251112T193731Z
URL:https://centralcoastcomedytheater.com/Shows/off-the-cuff-improv-show-a
 t-the-bunker-2/
SUMMARY:Off the Cuff Improv Show at the Bunker
DESCRIPTION:Join Central Coast Comedy Theater’s house team\, Off the Cuff
 \, as they thrill and delight on a wacky\, made-up adventure. It’s gonna
  be a little bit of  “Who’s Line is it Anyway?” And a lot of “Well
  that went somewhere unexpected!” Doors at 6pm\, show starts at 6:15. Ti
 ckets available online at https://rb.gy/5yccbchttps://rb.gy/5yccbc or at t
 he door.  
ATTACH;FMTTYPE=image/jpeg:https://i0.wp.com/centralcoastcomedytheater.com/
 wp-content/uploads/2025/09/IMG_9354.jpeg?fit=1024%2C1024&ssl=1
CATEGORIES:Improv Show
LOCATION:The Bunker SLO\, 810 Orcutt Road\, San Luis Obispo\, CA\, 93401\, 
 United States
X-APPLE-STRUCTURED-LOCATION;VALUE=URI;X-ADDRESS=810 Orcutt Road\, San Luis 
 Obispo\, CA\, 93401\, United States;X-APPLE-RADIUS=100;X-TITLE=The Bunker 
 SLO:geo:0,0
END:VEVENT
BEGIN:VTIMEZONE
TZID:America/Los_Angeles
X-LIC-LOCATION:America/Los_Angeles
BEGIN:STANDARD
DTSTART:20251102T010000
TZOFFSETFROM:-0700
TZOFFSETTO:-0800
TZNAME:PST
END:STANDARD
END:VTIMEZONE
END:VCALENDAR