BEGIN:VCALENDAR
VERSION:2.0
PRODID:-//wp-events-plugin.com//7.2.3.1//EN
BEGIN:VEVENT
UID:25@centralcoastcomedytheater.com
DTSTART;TZID=America/Los_Angeles:20251122T180000
DTEND;TZID=America/Los_Angeles:20251122T200000
DTSTAMP:20251012T195913Z
URL:https://centralcoastcomedytheater.com/Shows/november-improv-extravagan
 za/
SUMMARY:November Improv Extravaganza!
DESCRIPTION:Get ready for a night of quick wit\, wild scenes\, and comedy s
 o good your face will hurt from laughing. It’s going to be four teams do
 ling out unscripted hilarity with your hosts\, local improv troupe Zombie 
 Skillet. Doors at 6pm\, show starts at 6:15.  Tickets available at the doo
 r and online at https://rb.gy/5yccbc
ATTACH;FMTTYPE=image/jpeg:https://i0.wp.com/centralcoastcomedytheater.com/
 wp-content/uploads/2025/09/IMG_9354.jpeg?fit=1024%2C1024&ssl=1
CATEGORIES:Improv Show
LOCATION:The Bunker SLO\, 810 Orcutt Road\, San Luis Obispo\, CA\, 93401\, 
 United States
X-APPLE-STRUCTURED-LOCATION;VALUE=URI;X-ADDRESS=810 Orcutt Road\, San Luis 
 Obispo\, CA\, 93401\, United States;X-APPLE-RADIUS=100;X-TITLE=The Bunker 
 SLO:geo:0,0
END:VEVENT
BEGIN:VTIMEZONE
TZID:America/Los_Angeles
X-LIC-LOCATION:America/Los_Angeles
BEGIN:STANDARD
DTSTART:20251102T010000
TZOFFSETFROM:-0700
TZOFFSETTO:-0800
TZNAME:PST
END:STANDARD
END:VTIMEZONE
END:VCALENDAR