BEGIN:VCALENDAR
VERSION:2.0
PRODID:-//wp-events-plugin.com//7.2.3.1//EN
BEGIN:VEVENT
UID:4@centralcoastcomedytheater.com
DTSTART;TZID=America/Los_Angeles:20250613T180000
DTEND;TZID=America/Los_Angeles:20250613T200000
DTSTAMP:20250531T020211Z
URL:https://centralcoastcomedytheater.com/Shows/june-public-market-improv-
 show/
SUMMARY:June Public Market Improv Show
DESCRIPTION:Friday night shows at the SLO Public Market are always a blast!
  You don’t know what hijinx the performers will think up\, but you know 
 it’ll be funny and the food and drinks will be great. 
ATTACH;FMTTYPE=image/jpeg:https://i0.wp.com/centralcoastcomedytheater.com/
 wp-content/uploads/2025/05/IMG_9178.jpeg?fit=1024%2C1024&ssl=1
CATEGORIES:Improv Show
LOCATION:San Luis Obispo Public Market\, 3845 S Higuera St\, San Luis Obisp
 o\, California\, 93401\, United States
X-APPLE-STRUCTURED-LOCATION;VALUE=URI;X-ADDRESS=3845 S Higuera St\, San Lui
 s Obispo\, California\, 93401\, United States;X-APPLE-RADIUS=100;X-TITLE=S
 an Luis Obispo Public Market:geo:0,0
END:VEVENT
BEGIN:VTIMEZONE
TZID:America/Los_Angeles
X-LIC-LOCATION:America/Los_Angeles
BEGIN:DAYLIGHT
DTSTART:20250309T030000
TZOFFSETFROM:-0800
TZOFFSETTO:-0700
TZNAME:PDT
END:DAYLIGHT
END:VTIMEZONE
END:VCALENDAR