BEGIN:VCALENDAR
VERSION:2.0
PRODID:-//wp-events-plugin.com//7.2.3.1//EN
BEGIN:VEVENT
UID:20@centralcoastcomedytheater.com
DTSTART;TZID=America/Los_Angeles:20251010T180000
DTEND;TZID=America/Los_Angeles:20251010T200000
DTSTAMP:20250927T144205Z
URL:https://centralcoastcomedytheater.com/Shows/improv-playoffs-finale/
SUMMARY:Improv Playoffs Finale
DESCRIPTION:The grand finale show of the 9th annual Improv Playoffs\, this 
 show matches up the winners of the first two shows in a heated battle for 
 all the bragging rights (and maybe a trophy). The Improv Playoffs are a mu
 ch-loved tradition at Central Coast Comedy Theater. Come be a part of the 
 audience deciding who gets crowned the funniest. Tickets: https://rb.gy/5y
 ccbc
ATTACH;FMTTYPE=image/jpeg:https://i0.wp.com/centralcoastcomedytheater.com/
 wp-content/uploads/2025/08/974fb2de-13f7-460e-8b30-f927f04daa23.jpeg?fit=1
 024%2C1024&ssl=1
CATEGORIES:Improv Show
LOCATION:San Luis Obispo Public Market\, 3845 S Higuera St\, San Luis Obisp
 o\, California\, 93401\, United States
X-APPLE-STRUCTURED-LOCATION;VALUE=URI;X-ADDRESS=3845 S Higuera St\, San Lui
 s Obispo\, California\, 93401\, United States;X-APPLE-RADIUS=100;X-TITLE=S
 an Luis Obispo Public Market:geo:0,0
END:VEVENT
BEGIN:VTIMEZONE
TZID:America/Los_Angeles
X-LIC-LOCATION:America/Los_Angeles
BEGIN:DAYLIGHT
DTSTART:20250309T030000
TZOFFSETFROM:-0800
TZOFFSETTO:-0700
TZNAME:PDT
END:DAYLIGHT
END:VTIMEZONE
END:VCALENDAR