BEGIN:VCALENDAR
VERSION:2.0
PRODID:-//wp-events-plugin.com//7.2.3.1//EN
BEGIN:VEVENT
UID:101@centralcoastcomedytheater.com
DTSTART;TZID=America/Los_Angeles:20260122T180000
DTEND;TZID=America/Los_Angeles:20260122T200000
DTSTAMP:20251209T210717Z
URL:https://centralcoastcomedytheater.com/Shows/improv-extravaganza/
SUMMARY:Improv Extravaganza!
DESCRIPTION:The ever popular Improv Extravaganza is back in 2026! Watch the
  best of SLO’s improv teams awe and delight you with their unscripted ma
 dness and unhinged imaginations. Always weird\, always fun\, don’t miss 
 the Extravaganza! Tickets at the door or online at https://rb.gy/5yccbc
ATTACH;FMTTYPE=image/jpeg:https://i0.wp.com/centralcoastcomedytheater.com/
 wp-content/uploads/2025/12/c209d16e-b3e5-4b20-8017-7fd59e37a900.jpeg?fit=1
 024%2C1024&ssl=1
CATEGORIES:Improv Show
LOCATION:The Bunker SLO\, 810 Orcutt Road\, San Luis Obispo\, CA\, 93401\, 
 United States
X-APPLE-STRUCTURED-LOCATION;VALUE=URI;X-ADDRESS=810 Orcutt Road\, San Luis 
 Obispo\, CA\, 93401\, United States;X-APPLE-RADIUS=100;X-TITLE=The Bunker 
 SLO:geo:0,0
END:VEVENT
BEGIN:VTIMEZONE
TZID:America/Los_Angeles
X-LIC-LOCATION:America/Los_Angeles
BEGIN:STANDARD
DTSTART:20251102T010000
TZOFFSETFROM:-0700
TZOFFSETTO:-0800
TZNAME:PST
END:STANDARD
END:VTIMEZONE
END:VCALENDAR