BEGIN:VCALENDAR
VERSION:2.0
PRODID:-//wp-events-plugin.com//7.2.3.1//EN
BEGIN:VEVENT
UID:137@centralcoastcomedytheater.com
DTSTART;TZID=America/Los_Angeles:20260313T180000
DTEND;TZID=America/Los_Angeles:20260313T200000
DTSTAMP:20260211T225043Z
URL:https://centralcoastcomedytheater.com/Shows/friday-night-is-for-lovers
 -of-improv-2/
SUMMARY:Friday Night is for Lovers (of Improv)
DESCRIPTION:It's another night of spontaneous comedy as the Central Coast C
 omedy Theater Ensemble goes on another kooky\, made-up adventure! We're hi
 tting the stage with a wild mix of short form games (think “Whose Line I
 s It Anyway?” but with less network oversight) and long form improv (lik
 e a play\, if no one had memorized anything or made a plan).\n\nFueled by 
 your suggestions and questionable life choices\, this cast of quick-witted
  weirdos will spin chaos into comedy right before your eyes.
ATTACH;FMTTYPE=image/jpeg:https://i0.wp.com/centralcoastcomedytheater.com/
 wp-content/uploads/2026/02/Neon-improv-show-at-public-market.png?fit=1024%
 2C1024&ssl=1
CATEGORIES:Improv Show
LOCATION:San Luis Obispo Public Market\, 3845 S Higuera St\, San Luis Obisp
 o\, California\, 93401\, United States
X-APPLE-STRUCTURED-LOCATION;VALUE=URI;X-ADDRESS=3845 S Higuera St\, San Lui
 s Obispo\, California\, 93401\, United States;X-APPLE-RADIUS=100;X-TITLE=S
 an Luis Obispo Public Market:geo:0,0
END:VEVENT
BEGIN:VTIMEZONE
TZID:America/Los_Angeles
X-LIC-LOCATION:America/Los_Angeles
BEGIN:DAYLIGHT
DTSTART:20260308T030000
TZOFFSETFROM:-0800
TZOFFSETTO:-0700
TZNAME:PDT
END:DAYLIGHT
END:VTIMEZONE
END:VCALENDAR