BEGIN:VCALENDAR
VERSION:2.0
PRODID:-//wp-events-plugin.com//7.2.3.1//EN
BEGIN:VEVENT
UID:100@centralcoastcomedytheater.com
DTSTART;TZID=America/Los_Angeles:20260116T180000
DTEND;TZID=America/Los_Angeles:20260116T200000
DTSTAMP:20251209T210647Z
URL:https://centralcoastcomedytheater.com/Shows/friday-night-improv/
SUMMARY:Friday Night Improv
DESCRIPTION:Friday night date night at the Bunker with entertainment brough
 t to you by Central Coast Comedy Theater! It’s like a live viewing of Wh
 o’s Line Is It Anyway steeped in middle school sleepover mania. Tickets 
 at the door or online at https://rb.gy/5yccbc
ATTACH;FMTTYPE=image/jpeg:https://i0.wp.com/centralcoastcomedytheater.com/
 wp-content/uploads/2025/12/03c8c56a-cdf7-42e4-b254-ca2a8349c980.jpeg?fit=1
 024%2C1024&ssl=1
CATEGORIES:Improv Show
LOCATION:The Bunker SLO\, 810 Orcutt Road\, San Luis Obispo\, CA\, 93401\, 
 United States
X-APPLE-STRUCTURED-LOCATION;VALUE=URI;X-ADDRESS=810 Orcutt Road\, San Luis 
 Obispo\, CA\, 93401\, United States;X-APPLE-RADIUS=100;X-TITLE=The Bunker 
 SLO:geo:0,0
END:VEVENT
BEGIN:VTIMEZONE
TZID:America/Los_Angeles
X-LIC-LOCATION:America/Los_Angeles
BEGIN:STANDARD
DTSTART:20251102T010000
TZOFFSETFROM:-0700
TZOFFSETTO:-0800
TZNAME:PST
END:STANDARD
END:VTIMEZONE
END:VCALENDAR