BEGIN:VCALENDAR
VERSION:2.0
PRODID:-//wp-events-plugin.com//7.2.3.1//EN
BEGIN:VEVENT
UID:14@centralcoastcomedytheater.com
DTSTART;TZID=America/Los_Angeles:20250821T180000
DTEND;TZID=America/Los_Angeles:20250821T200000
DTSTAMP:20250723T215611Z
URL:https://centralcoastcomedytheater.com/Shows/comedy-improv-at-the-bunke
 r/
SUMMARY:Comedy Improv at the Bunker
DESCRIPTION:CCCT’s Ensemble team shares the stage with Off the Cuff for a
  night of hilarity as both teams make it all up on the spot. It’ll be a 
 whirlwind of wit\, chaos\, and unscripted brilliance. Tickets: https://rb.
 gy/5yccbc 
ATTACH;FMTTYPE=image/jpeg:https://i0.wp.com/centralcoastcomedytheater.com/
 wp-content/uploads/2025/05/IMG_9176.jpeg?fit=1024%2C1024&ssl=1
CATEGORIES:Improv Show
LOCATION:The Bunker SLO\, 810 Orcutt Road\, San Luis Obispo\, CA\, 93401\, 
 United States
X-APPLE-STRUCTURED-LOCATION;VALUE=URI;X-ADDRESS=810 Orcutt Road\, San Luis 
 Obispo\, CA\, 93401\, United States;X-APPLE-RADIUS=100;X-TITLE=The Bunker 
 SLO:geo:0,0
END:VEVENT
BEGIN:VTIMEZONE
TZID:America/Los_Angeles
X-LIC-LOCATION:America/Los_Angeles
BEGIN:DAYLIGHT
DTSTART:20250309T030000
TZOFFSETFROM:-0800
TZOFFSETTO:-0700
TZNAME:PDT
END:DAYLIGHT
END:VTIMEZONE
END:VCALENDAR